BEGIN:VCALENDAR
VERSION:2.0
PRODID:-//habitatseo.org//NONSGML kigkonsult.se iCalcreator 2.30.10//
CALSCALE:GREGORIAN
METHOD:PUBLISH
UID:6a98ccf5-59dd-4f83-a844-0c4e2d041e6b
X-WR-CALDESC:Your roof is one of the most important systems of your home. K
 nowing how the components of a roof are assembled to keep your house dry i
 s the first step in helping you identify any problems that might lead to b
 igger problems. You will learn all this and more\, then climb up on the ro
 of for basic repairs!
X-WR-RELCALID:13bdd147b5984addb00f547af9c0afb5
X-WR-TIMEZONE:America/New_York
BEGIN:VTIMEZONE
TZID:America/New_York
BEGIN:STANDARD
TZNAME:EST
DTSTART:20241103T020000
TZOFFSETFROM:-0400
TZOFFSETTO:-0500
RDATE:20251102T020000
END:STANDARD
BEGIN:DAYLIGHT
TZNAME:EDT
DTSTART:20240310T020000
TZOFFSETFROM:-0500
TZOFFSETTO:-0400
RDATE:20250309T020000
RDATE:20260308T020000
END:DAYLIGHT
END:VTIMEZONE
BEGIN:VEVENT
UID:a01149d4-5765-4a71-a762-23abc0c8682b
DTSTAMP:20260420T084251Z
DESCRIPTION:Your roof is one of the most important systems of your home. Kn
 owing how the components of a roof are assembled to keep your house dry is
  the first step in helping you identify any problems that might lead to bi
 gger problems. You will learn all this and more\, then climb up on the roo
 f for basic repairs!
DTSTART;TZID=America/New_York:20241126T180000
DTEND;TZID=America/New_York:20241126T193000
LOCATION:14440 State Route 13\, Millfield\, OH 45761 US
SUMMARY:Session 10: Roofing
END:VEVENT
END:VCALENDAR
